BEGIN:VCALENDAR
VERSION:2.0
PRODID:-//The Clay Lady Studios - ECPv6.15.20//NONSGML v1.0//EN
CALSCALE:GREGORIAN
METHOD:PUBLISH
X-WR-CALNAME:The Clay Lady Studios
X-ORIGINAL-URL:https://theclaylady.com
X-WR-CALDESC:Events for The Clay Lady Studios
REFRESH-INTERVAL;VALUE=DURATION:PT1H
X-Robots-Tag:noindex
X-PUBLISHED-TTL:PT1H
BEGIN:VTIMEZONE
TZID:America/Chicago
BEGIN:DAYLIGHT
TZOFFSETFROM:-0600
TZOFFSETTO:-0500
TZNAME:CDT
DTSTART:20250309T080000
END:DAYLIGHT
BEGIN:STANDARD
TZOFFSETFROM:-0500
TZOFFSETTO:-0600
TZNAME:CST
DTSTART:20251102T070000
END:STANDARD
BEGIN:DAYLIGHT
TZOFFSETFROM:-0600
TZOFFSETTO:-0500
TZNAME:CDT
DTSTART:20260308T080000
END:DAYLIGHT
BEGIN:STANDARD
TZOFFSETFROM:-0500
TZOFFSETTO:-0600
TZNAME:CST
DTSTART:20261101T070000
END:STANDARD
BEGIN:DAYLIGHT
TZOFFSETFROM:-0600
TZOFFSETTO:-0500
TZNAME:CDT
DTSTART:20270314T080000
END:DAYLIGHT
BEGIN:STANDARD
TZOFFSETFROM:-0500
TZOFFSETTO:-0600
TZNAME:CST
DTSTART:20271107T070000
END:STANDARD
END:VTIMEZONE
BEGIN:VEVENT
DTSTART;VALUE=DATE:20260425
DTEND;VALUE=DATE:20260621
DTSTAMP:20260425T065430
CREATED:20250623T154329Z
LAST-MODIFIED:20260316T145032Z
UID:29199-1777075200-1781999999@theclaylady.com
SUMMARY:Saturday Morning Pottery Class with Christine Roth
DESCRIPTION:About Your Class \nWhen: Every Saturday from 9:00-12:00\,  starting the week of April 20\nDuration: 9 weeks\nInstructor: Christine Roth\nPrice: $275 plus supplies \nThis pottery class provides techniques for the beginner or the experienced artist! All skill levels\, ages 16 and up are welcome. We believe beginner and experienced potters alike benefit from this collaborative community! \nAll class fees of $275 do not include starter supplies that will be purchased the first day of class at Mid-South Ceramics\, the supply store on our Campus\, for approximately $50. Once registered you will receive an informative email with more details from Danielle~The Clay Lady within 2 weeks. \nRefund policy: Refunds are available up to 10 days before classes begin.\n\n\nAbout Your Instructor \nChristine Roth \n\n\nDuring Class: I don’t take myself too seriously when it comes to clay so I encourage others to do the same. Expect to have fun and enjoy making mistakes and not being perfect!\nDid You Know: I love wearing overalls to work with clay so if I have to make a stop on the way home I don’t look bonkers.\nAs An Artist: Clay is not a job\, it’s a joy. I do this work for peace of mind. I never let it become a job for me. I enjoy spending time with people talking about clay and asking about their work and sharing ideas.\nInstagram: @thesinginggecko​
URL:https://theclaylady.com/event/saturday-morning-pottery-class-with-christine-roth-3/
LOCATION:The Clay Lady’s Campus Studio D
CATEGORIES:Classes,Pottery Classes
ATTACH;FMTTYPE=image/png:https://theclaylady.com/wp-content/uploads/2024/10/19.png
END:VEVENT
END:VCALENDAR