BEGIN:VCALENDAR
VERSION:2.0
PRODID:-//The Clay Lady Studios - ECPv6.15.20//NONSGML v1.0//EN
CALSCALE:GREGORIAN
METHOD:PUBLISH
X-WR-CALNAME:The Clay Lady Studios
X-ORIGINAL-URL:https://theclaylady.com
X-WR-CALDESC:Events for The Clay Lady Studios
REFRESH-INTERVAL;VALUE=DURATION:PT1H
X-Robots-Tag:noindex
X-PUBLISHED-TTL:PT1H
BEGIN:VTIMEZONE
TZID:America/Chicago
BEGIN:DAYLIGHT
TZOFFSETFROM:-0600
TZOFFSETTO:-0500
TZNAME:CDT
DTSTART:20250309T080000
END:DAYLIGHT
BEGIN:STANDARD
TZOFFSETFROM:-0500
TZOFFSETTO:-0600
TZNAME:CST
DTSTART:20251102T070000
END:STANDARD
BEGIN:DAYLIGHT
TZOFFSETFROM:-0600
TZOFFSETTO:-0500
TZNAME:CDT
DTSTART:20260308T080000
END:DAYLIGHT
BEGIN:STANDARD
TZOFFSETFROM:-0500
TZOFFSETTO:-0600
TZNAME:CST
DTSTART:20261101T070000
END:STANDARD
BEGIN:DAYLIGHT
TZOFFSETFROM:-0600
TZOFFSETTO:-0500
TZNAME:CDT
DTSTART:20270314T080000
END:DAYLIGHT
BEGIN:STANDARD
TZOFFSETFROM:-0500
TZOFFSETTO:-0600
TZNAME:CST
DTSTART:20271107T070000
END:STANDARD
END:VTIMEZONE
BEGIN:VEVENT
DTSTART;VALUE=DATE:20260421
DTEND;VALUE=DATE:20260617
DTSTAMP:20260425T052336
CREATED:20260219T171408Z
LAST-MODIFIED:20260316T140848Z
UID:33098-1776729600-1781654399@theclaylady.com
SUMMARY:Tuesday Afternoon Focus Study: Combining Thrown Forms with Christine Roth
DESCRIPTION:When: Every Tuesday from 1:00-4:00 starting the week of April 20\nDuration: 9 weeks\nInstructor: Christine roth\nPrice: $295 plus supplies \nThis focus study class concentrates on throwing forms and combining them to have a finished look! This includes goblets\, plate stands\, etc. Because this is a focus study\, this class is not for beginners and students must have the ability to create independently.  \nAll class fees of $295 do not include starter supplies that will be purchased the first day of class at Mid-South Ceramics\, the supply store on our Campus\, for approximately $50. Once registered you will receive an informative email with more details from Danielle~The Clay Lady within 2 weeks. \nRefund policy: Refunds are available up to 10 days before classes begin. \n 
URL:https://theclaylady.com/event/thursday-evening-focus-study-combining-thrown-forms-with-christine-roth/
LOCATION:The Clay Lady’s Campus Studio G
CATEGORIES:Classes,Focus Study
ATTACH;FMTTYPE=image/png:https://theclaylady.com/wp-content/uploads/2026/02/Screenshot-2026-02-19-at-11.25.11-AM.png
END:VEVENT
END:VCALENDAR