BEGIN:VCALENDAR
VERSION:2.0
PRODID:-//The Clay Lady Studios - ECPv6.15.20//NONSGML v1.0//EN
CALSCALE:GREGORIAN
METHOD:PUBLISH
X-WR-CALNAME:The Clay Lady Studios
X-ORIGINAL-URL:https://theclaylady.com
X-WR-CALDESC:Events for The Clay Lady Studios
REFRESH-INTERVAL;VALUE=DURATION:PT1H
X-Robots-Tag:noindex
X-PUBLISHED-TTL:PT1H
BEGIN:VTIMEZONE
TZID:America/Chicago
BEGIN:DAYLIGHT
TZOFFSETFROM:-0600
TZOFFSETTO:-0500
TZNAME:CDT
DTSTART:20250309T080000
END:DAYLIGHT
BEGIN:STANDARD
TZOFFSETFROM:-0500
TZOFFSETTO:-0600
TZNAME:CST
DTSTART:20251102T070000
END:STANDARD
BEGIN:DAYLIGHT
TZOFFSETFROM:-0600
TZOFFSETTO:-0500
TZNAME:CDT
DTSTART:20260308T080000
END:DAYLIGHT
BEGIN:STANDARD
TZOFFSETFROM:-0500
TZOFFSETTO:-0600
TZNAME:CST
DTSTART:20261101T070000
END:STANDARD
BEGIN:DAYLIGHT
TZOFFSETFROM:-0600
TZOFFSETTO:-0500
TZNAME:CDT
DTSTART:20270314T080000
END:DAYLIGHT
BEGIN:STANDARD
TZOFFSETFROM:-0500
TZOFFSETTO:-0600
TZNAME:CST
DTSTART:20271107T070000
END:STANDARD
END:VTIMEZONE
BEGIN:VEVENT
DTSTART;VALUE=DATE:20260423
DTEND;VALUE=DATE:20260619
DTSTAMP:20260425T070850
CREATED:20250623T150931Z
LAST-MODIFIED:20260413T152440Z
UID:29177-1776902400-1781827199@theclaylady.com
SUMMARY:Thursday Evening Pottery Class with Rachel Moore
DESCRIPTION:About Your Class \nWhen: Every Thursday from 5:30-8:30\,  starting the week of April 20\nDuration: 9 weeks\nInstructor: Rachel Moore\nPrice: $275 plus supplies \nThis pottery class provides techniques for the beginner or the experienced artist! All skill levels\, ages 16 and up are welcome. We believe beginner and experienced potters alike benefit from this collaborative community! \nAll class fees of $275 do not include starter supplies that will be purchased the first day of class at Mid-South Ceramics\, the supply store on our Campus\, for approximately $50. Once registered you will receive an informative email with more details from Danielle~The Clay Lady within 2 weeks. \n\nRefund policy: Refunds are available up to 10 days before classes begin. \nAbout Your Instructor \n\n\nRachel Moore\nDuring Class: I’ll try out as many silly metaphors as it takes to make new concepts stick! There’s always more than one way to approach clay\, and I’m excited to discover new ways to do things alongside my students.\nDid You Know: In addition to pottery\, I also love writing\, sewing\, and animals of all kinds – ask me about my pet gecko!\nAs An Artist: My favorite thing to hear as a potter is that a piece of my work is part of someone’s daily routine.\nInstagram: @hayesroadstudio\n​
URL:https://theclaylady.com/event/thursday-evening-pottery-class-with-rachel-moore/
LOCATION:The Clay Lady’s Campus Studio D
CATEGORIES:Classes,Pottery Classes
ATTACH;FMTTYPE=image/png:https://theclaylady.com/wp-content/uploads/2025/10/Screenshot-2025-10-08-at-4.41.36-PM.png
END:VEVENT
END:VCALENDAR