BEGIN:VCALENDAR
VERSION:2.0
PRODID:-//The Clay Lady Studios - ECPv6.15.20//NONSGML v1.0//EN
CALSCALE:GREGORIAN
METHOD:PUBLISH
X-WR-CALNAME:The Clay Lady Studios
X-ORIGINAL-URL:https://theclaylady.com
X-WR-CALDESC:Events for The Clay Lady Studios
REFRESH-INTERVAL;VALUE=DURATION:PT1H
X-Robots-Tag:noindex
X-PUBLISHED-TTL:PT1H
BEGIN:VTIMEZONE
TZID:America/Chicago
BEGIN:DAYLIGHT
TZOFFSETFROM:-0600
TZOFFSETTO:-0500
TZNAME:CDT
DTSTART:20250309T080000
END:DAYLIGHT
BEGIN:STANDARD
TZOFFSETFROM:-0500
TZOFFSETTO:-0600
TZNAME:CST
DTSTART:20251102T070000
END:STANDARD
BEGIN:DAYLIGHT
TZOFFSETFROM:-0600
TZOFFSETTO:-0500
TZNAME:CDT
DTSTART:20260308T080000
END:DAYLIGHT
BEGIN:STANDARD
TZOFFSETFROM:-0500
TZOFFSETTO:-0600
TZNAME:CST
DTSTART:20261101T070000
END:STANDARD
BEGIN:DAYLIGHT
TZOFFSETFROM:-0600
TZOFFSETTO:-0500
TZNAME:CDT
DTSTART:20270314T080000
END:DAYLIGHT
BEGIN:STANDARD
TZOFFSETFROM:-0500
TZOFFSETTO:-0600
TZNAME:CST
DTSTART:20271107T070000
END:STANDARD
END:VTIMEZONE
BEGIN:VEVENT
DTSTART;VALUE=DATE:20260423
DTEND;VALUE=DATE:20260619
DTSTAMP:20260425T065947
CREATED:20250623T150038Z
LAST-MODIFIED:20260316T142921Z
UID:29168-1776902400-1781827199@theclaylady.com
SUMMARY:Thursday Morning Pottery Class with Merideth Holder
DESCRIPTION:About Your Class \nWhen: Every Thursday from 9:00-12:00\,  starting the week of April 20\nDuration: 9 weeks\nInstructor: Merideth Holder\nPrice: $275 plus supplies \nThis pottery class provides techniques for the beginner or the experienced artist! All skill levels\, ages 16 and up are welcome. We believe beginner and experienced potters alike benefit from this collaborative community! \nAll class fees of $275 do not include starter supplies that will be purchased the first day of class at Mid-South Ceramics\, the supply store on our Campus\, for approximately $50. Once registered you will receive an informative email with more details from Danielle~The Clay Lady within 2 weeks. \n\nRefund policy: Refunds are available up to 10 days before classes begin. \nAbout Your Instructor \nMerideth Holder \nDuring Class: You might see some Some flopping pots and dancing to the oldies.\nDid You Know: When I’m not in the studio you’ll find me in the garden or on a hike with my family.\nAs An Artist: I seek out beauty in the everyday. Observing and making are key to the way I exist in the world.\nInstagram: @merideth.holder\nWebsite: meridethholder.com​
URL:https://theclaylady.com/event/thursday-morning-pottery-class-with-merideth-h/
LOCATION:The Clay Lady’s Campus Studio D
CATEGORIES:Classes,Pottery Classes
ATTACH;FMTTYPE=image/png:https://theclaylady.com/wp-content/uploads/2025/06/Screenshot-2025-08-13-at-10.05.59-AM.png
END:VEVENT
END:VCALENDAR