BEGIN:VCALENDAR
VERSION:2.0
PRODID:-//The Clay Lady Studios - ECPv6.15.20//NONSGML v1.0//EN
CALSCALE:GREGORIAN
METHOD:PUBLISH
X-WR-CALNAME:The Clay Lady Studios
X-ORIGINAL-URL:https://theclaylady.com
X-WR-CALDESC:Events for The Clay Lady Studios
REFRESH-INTERVAL;VALUE=DURATION:PT1H
X-Robots-Tag:noindex
X-PUBLISHED-TTL:PT1H
BEGIN:VTIMEZONE
TZID:America/Chicago
BEGIN:DAYLIGHT
TZOFFSETFROM:-0600
TZOFFSETTO:-0500
TZNAME:CDT
DTSTART:20250309T080000
END:DAYLIGHT
BEGIN:STANDARD
TZOFFSETFROM:-0500
TZOFFSETTO:-0600
TZNAME:CST
DTSTART:20251102T070000
END:STANDARD
BEGIN:DAYLIGHT
TZOFFSETFROM:-0600
TZOFFSETTO:-0500
TZNAME:CDT
DTSTART:20260308T080000
END:DAYLIGHT
BEGIN:STANDARD
TZOFFSETFROM:-0500
TZOFFSETTO:-0600
TZNAME:CST
DTSTART:20261101T070000
END:STANDARD
BEGIN:DAYLIGHT
TZOFFSETFROM:-0600
TZOFFSETTO:-0500
TZNAME:CDT
DTSTART:20270314T080000
END:DAYLIGHT
BEGIN:STANDARD
TZOFFSETFROM:-0500
TZOFFSETTO:-0600
TZNAME:CST
DTSTART:20271107T070000
END:STANDARD
END:VTIMEZONE
BEGIN:VEVENT
DTSTART;VALUE=DATE:20260421
DTEND;VALUE=DATE:20260617
DTSTAMP:20260423T111637
CREATED:20260219T170330Z
LAST-MODIFIED:20260318T221351Z
UID:33087-1776729600-1781654399@theclaylady.com
SUMMARY:Tuesday Evening Focus Study: Foundations in Tile with Cassis Pitman
DESCRIPTION:When: Every Tuesday from 5:30-8:30\,  starting the week of April 20\nDuration: 9 weeks\nInstructor: Cassis Pitman\nPrice: $295 plus supplies \nDiscover the full process of creating ceramics wall tiles—from the very first sketch to the finished installation. In this hands-on class\, students will learn the history of tile as well as explore project management\, design principles\, and glazing techniques specific to tile work. This focus study culminates in a final project where each student will create a hanging tile board\, learning how to set\, finish\, and grout their own wall piece. \nBecause this is a focus study\, this class is not for beginners and students must have the ability to create independently.  \nAll class fees of $295 do not include starter supplies that will be purchased the first day of class at Mid-South Ceramics\, the supply store on our Campus\, for approximately $50. Once registered you will receive an informative email with more details from Danielle~The Clay Lady within 2 weeks. \nRefund policy: Refunds are available up to 10 days before classes begin. \n 
URL:https://theclaylady.com/event/tuesday-afternoon-focus-study-foundations-in-tile-with-cassis-pitman/
LOCATION:The Clay Lady’s Campus Studio G
CATEGORIES:Classes,Focus Study
ATTACH;FMTTYPE=image/jpeg:https://theclaylady.com/wp-content/uploads/2025/06/PXL_20250131_224209697.MP_-e1755118515774.jpg
END:VEVENT
END:VCALENDAR